BEGIN:VCALENDAR
VERSION:2.0
PRODID:-//https://www.kirchen-zell-leinach.de///NONSGML kigkonsult.se iCalcreator 2.10.15//
METHOD:PUBLISH
BEGIN:VEVENT
UID:20260422T104131CEST-4094H3FahH@https://www.kirchen-zell-leinach.de/
DTSTAMP:20260422T084131Z
DESCRIPTION: https://www.kirchen-zell-leinach.de/aktuelles/event/141-taufso
 nntag
DTSTART;VALUE=DATE:20230618
LOCATION:Kloster Oberzell ()
SUMMARY:Taufsonntag
URL:https://www.kirchen-zell-leinach.de/aktuelles/event/141-taufsonntag
END:VEVENT
END:VCALENDAR
