BEGIN:VCALENDAR
VERSION:2.0
PRODID:-//https://www.kirchen-zell-leinach.de///NONSGML kigkonsult.se iCalcreator 2.10.15//
METHOD:PUBLISH
BEGIN:VEVENT
UID:20260422T143631CEST-2209GPHOkc@https://www.kirchen-zell-leinach.de/
DTSTAMP:20260422T123631Z
DESCRIPTION: https://www.kirchen-zell-leinach.de/aktuelles/event/137-taufso
 nntag
DTSTART;VALUE=DATE:20230219
LOCATION:Kloster Oberzell ()
SUMMARY:Taufsonntag
URL:https://www.kirchen-zell-leinach.de/aktuelles/event/137-taufsonntag
END:VEVENT
END:VCALENDAR
