BEGIN:VCALENDAR
VERSION:2.0
PRODID:-//https://www.kirchen-zell-leinach.de///NONSGML kigkonsult.se iCalcreator 2.10.15//
METHOD:PUBLISH
BEGIN:VEVENT
UID:20260423T121429CEST-7980Wi3bhC@https://www.kirchen-zell-leinach.de/
DTSTAMP:20260423T101429Z
DESCRIPTION: https://www.kirchen-zell-leinach.de/aktuelles/event/125-taufso
 nntag
DTSTART;VALUE=DATE:20230122
LOCATION:Kloster Oberzell ()
SUMMARY:Taufsonntag
URL:https://www.kirchen-zell-leinach.de/aktuelles/event/125-taufsonntag
END:VEVENT
END:VCALENDAR
